BEGIN:VCALENDAR
VERSION:2.0
CALSCALE:GREGORIAN
METHOD:PUBLISH
X-WR-TIMEZONE:Australia/Sydney
BEGIN:VTIMEZONE
TZID:Australia/Sydney
BEGIN:STANDARD
TZNAME:AEST
END:STANDARD
END:VTIMEZONE
BEGIN:VEVENT
DTSTART;TZID=Australia/Sydney:20260511T081000
DTEND;TZID=Australia/Sydney:20260511T085000
RRULE:FREQ=WEEKLY;UNTIL=20260629T085000;BYDAY=MO
DTSTAMP:20260423T194803
UID:66
SUMMARY:Breakfast Club
DESCRIPTION:




Monday Morning Breakfast ClubWith Chaplain Tianie


SEQUENCE:0
STATUS:CONFIRMED
TRANSP:OPAQUE
END:VEVENT
END:VCALENDAR